BEGIN:VCALENDAR
VERSION:2.0
PRODID:-//Tukios.com/
BEGIN:VEVENT
UID:72a9cf95-b294-47fc-8ee3-3cfbb4a67555@www.chaddickfuneralhome.com
DTSTAMP:20260424T230440Z
DTSTART:20260427T190000Z
DTEND:20260427T200000Z
SUMMARY:Funeral Service
DESCRIPTION:
URL:https://www.chaddickfuneralhome.com/obituaries/sherri-perkins
LOCATION:Grace Church 1021 West First Street  DeRidder LA 70634
GEO:30.8466103;-93.2986724
END:VEVENT
END:VCALENDAR