BEGIN:VCALENDAR
VERSION:2.0
PRODID:-//Tukios.com/
BEGIN:VEVENT
UID:984ae0a1-4c47-45ae-812a-b454362a42d9@www.chaddickfuneralhome.com
DTSTAMP:20260424T230006Z
DTSTART:20260427T160000Z
DTEND:20260427T190000Z
SUMMARY:Visitation
DESCRIPTION:
URL:https://www.chaddickfuneralhome.com/obituaries/sherri-perkins
LOCATION:Grace Church 1021 West First Street  DeRidder LA 70634
GEO:30.8466103;-93.2986724
END:VEVENT
END:VCALENDAR