BEGIN:VCALENDAR
VERSION:2.0
PRODID:-//Tukios.com/
BEGIN:VEVENT
UID:d3f5e348-b536-4bb5-8a6d-127c7dda64c8@www.chaddickfuneralhome.com
DTSTAMP:20260423T195413Z
DTSTART:20260425T160000Z
DTEND:20260425T170000Z
SUMMARY:Funeral Service
DESCRIPTION:
URL:https://www.chaddickfuneralhome.com/obituaries/joseph-seal
LOCATION:The Pentecostals of Mittie Church 11265 LA-26  Mittie LA 70654
GEO:30.6887646;-92.8788513
END:VEVENT
END:VCALENDAR