BEGIN:VCALENDAR
VERSION:2.0
PRODID:-//Tukios.com/
BEGIN:VEVENT
UID:0fa929f6-684a-43fa-9d29-b04bfb80d7ae@www.chaddickfuneralhome.com
DTSTAMP:20260423T195242Z
DTSTART:20260424T210000Z
DTEND:20260425T010000Z
SUMMARY:Visitation
DESCRIPTION:
URL:https://www.chaddickfuneralhome.com/obituaries/joseph-seal
LOCATION:The Pentecostals of Mittie Church 11265 LA-26  Mittie LA 70654
GEO:30.6887646;-92.8788513
END:VEVENT
END:VCALENDAR